BEGIN:VCALENDAR
VERSION:2.0
PRODID:-//CAHIP NorCal - ECPv6.15.20//NONSGML v1.0//EN
CALSCALE:GREGORIAN
METHOD:PUBLISH
X-ORIGINAL-URL:https://cahip-norcal.org
X-WR-CALDESC:Events for CAHIP NorCal
REFRESH-INTERVAL;VALUE=DURATION:PT1H
X-Robots-Tag:noindex
X-PUBLISHED-TTL:PT1H
BEGIN:VTIMEZONE
TZID:America/Los_Angeles
BEGIN:DAYLIGHT
TZOFFSETFROM:-0800
TZOFFSETTO:-0700
TZNAME:PDT
DTSTART:20230312T100000
END:DAYLIGHT
BEGIN:STANDARD
TZOFFSETFROM:-0700
TZOFFSETTO:-0800
TZNAME:PST
DTSTART:20231105T090000
END:STANDARD
BEGIN:DAYLIGHT
TZOFFSETFROM:-0800
TZOFFSETTO:-0700
TZNAME:PDT
DTSTART:20240310T100000
END:DAYLIGHT
BEGIN:STANDARD
TZOFFSETFROM:-0700
TZOFFSETTO:-0800
TZNAME:PST
DTSTART:20241103T090000
END:STANDARD
BEGIN:DAYLIGHT
TZOFFSETFROM:-0800
TZOFFSETTO:-0700
TZNAME:PDT
DTSTART:20250309T100000
END:DAYLIGHT
BEGIN:STANDARD
TZOFFSETFROM:-0700
TZOFFSETTO:-0800
TZNAME:PST
DTSTART:20251102T090000
END:STANDARD
END:VTIMEZONE
BEGIN:VEVENT
DTSTART;TZID=America/Los_Angeles:20240320T100000
DTEND;TZID=America/Los_Angeles:20240320T110000
DTSTAMP:20260419T135250
CREATED:20240228T200335Z
LAST-MODIFIED:20240228T210231Z
UID:10000082-1710928800-1710932400@cahip-norcal.org
SUMMARY:SAHU March Coffee Chat 2024
DESCRIPTION:Presentation Topic: Legislative Update & Capitol Conference Recap\nJoin us for this FREE legislative update\, covering current legislation and a recap of the Capitol Conference! \nFree to members of SAHU! Non-Members $15. \nIn Person Wednesday\, March 20th\, 2024 @ 10AM201 Creekside Ridge Ct\, Suite 200\, Roseville\, CA 95678\nCan’t Make it in-person? Register Virtually Here!\n \nSpeakers\nDave Fear Jr.Legislative Co-Chair\nProfessionally\, David has served as the President of the California Association of Health Underwriters 2018-2019.  He is a former President of the Sacramento Association of Health Underwriters 2010-2012 and he served as the CAHU Membership Chair in 2012-2014 and CAHU Legislative Chair 2014-2017. Read More \n\nBrad WrightLegislative Co-Chair\nBrad Wright is a consultant who helps small to medium-sized business owners who face the challenging modern workforce. He has experience working for industry-standard companies\, like ADP\, and new fintech companies like Human Interest. He is regarded as the go-to source for… Read More
URL:https://cahip-norcal.org/event/sahu-march-coffee-chat-2024/
LOCATION:Trusted American Insurance Agency\, 201 Creekside Ridge Ct\, Suite 200\, Roseville\, CA\, 95678\, United States
CATEGORIES:Legislative,Member Meeting
ATTACH;FMTTYPE=image/jpeg:https://cahip-norcal.org/wp-content/uploads/2024/02/SAHU_MarchCoffeeChat_2024.jpg
ORGANIZER;CN="CAHIP Northern California":MAILTO:info@cahip-norcal.org
END:VEVENT
END:VCALENDAR