BEGIN:VCALENDAR
VERSION:2.0
PRODID:-//CAHIP NorCal - ECPv6.15.20//NONSGML v1.0//EN
CALSCALE:GREGORIAN
METHOD:PUBLISH
X-WR-CALNAME:CAHIP NorCal
X-ORIGINAL-URL:https://cahip-norcal.org
X-WR-CALDESC:Events for CAHIP NorCal
REFRESH-INTERVAL;VALUE=DURATION:PT1H
X-Robots-Tag:noindex
X-PUBLISHED-TTL:PT1H
BEGIN:VTIMEZONE
TZID:America/Los_Angeles
BEGIN:DAYLIGHT
TZOFFSETFROM:-0800
TZOFFSETTO:-0700
TZNAME:PDT
DTSTART:20230312T100000
END:DAYLIGHT
BEGIN:STANDARD
TZOFFSETFROM:-0700
TZOFFSETTO:-0800
TZNAME:PST
DTSTART:20231105T090000
END:STANDARD
BEGIN:DAYLIGHT
TZOFFSETFROM:-0800
TZOFFSETTO:-0700
TZNAME:PDT
DTSTART:20240310T100000
END:DAYLIGHT
BEGIN:STANDARD
TZOFFSETFROM:-0700
TZOFFSETTO:-0800
TZNAME:PST
DTSTART:20241103T090000
END:STANDARD
BEGIN:DAYLIGHT
TZOFFSETFROM:-0800
TZOFFSETTO:-0700
TZNAME:PDT
DTSTART:20250309T100000
END:DAYLIGHT
BEGIN:STANDARD
TZOFFSETFROM:-0700
TZOFFSETTO:-0800
TZNAME:PST
DTSTART:20251102T090000
END:STANDARD
END:VTIMEZONE
BEGIN:VEVENT
DTSTART;TZID=America/Los_Angeles:20240418T140000
DTEND;TZID=America/Los_Angeles:20240418T170000
DTSTAMP:20260419T095510
CREATED:20240118T181546Z
LAST-MODIFIED:20240429T212059Z
UID:10000141-1713448800-1713459600@cahip-norcal.org
SUMMARY:SAHU Vanguard Cornhole 2024
DESCRIPTION:SAHU’s newest favorite event returns\, April 18th\, 2024!  \n\n\n\n\n\n\n\n\n\n\n\n\n\nThis Event Has PassedHere Are the Highlights\n\n\n\n\n\n\n\n\nParticipants gearing up for the tournament!\n\n\n\nShannon Meyer with Aetna\, Dalia Sutton with Anthem\, and guest\n\n\n\n\n\n\n\nParticipants getting their throw on! \n\n\n\n\n\n\n\n\n\n\n\nSAHU President\, Helen Ornellas\, and Mr. Specs Lanham\n\n\n\n\n\n\n\nFirst Place winners\, Danny Langarica & Andy Fullerton. Second place winners\, Brian Coppin & David Parker. Our 2024 Cornhole Winners\, with 3rd place winners\, Enoch Barrios & guest.  \n\n\n\nFirst Place winners\, Danny Langarica & Andy Fullerton\n\n\n\nSecond place winners\, Brian Coppin & David Parker.\n\n\n\n\n\n\n\n\n\n\n\nCerrina and Aaron Jensen\, and guests\n\n\n\n\n\n\n\n\n\n\n\n\n\n\n\n\nSponsorship Opportunities Available\n\n\n\nWoody Sponsorship – $350Cornhole Sponsorship – $650\n\n\n\n\n\n\n\nSponsors\n\n\n\nCornhole Sponsors\n\n\n\n\n\n\n\nWoody Sponsors\n\n\n\n\n\n\n\nDrink Sponsors
URL:https://cahip-norcal.org/event/sahu-vanguard-cornhole-2024/
LOCATION:Le Five\, 11115 Folsom Blvd\, STE 200\, Rancho Cordova\, California\, 95670\, United States
CATEGORIES:Vanguard
ATTACH;FMTTYPE=image/jpeg:https://cahip-norcal.org/wp-content/uploads/2024/01/SAHU-Cornhole-2024.jpg
END:VEVENT
END:VCALENDAR